BEGIN:VCALENDAR
VERSION:2.0
PRODID:-//Lodge of Four Seasons - ECPv6.15.20//NONSGML v1.0//EN
CALSCALE:GREGORIAN
METHOD:PUBLISH
X-WR-CALNAME:Lodge of Four Seasons
X-ORIGINAL-URL:https://4seasonsresort.com
X-WR-CALDESC:Events for Lodge of Four Seasons
REFRESH-INTERVAL;VALUE=DURATION:PT1H
X-Robots-Tag:noindex
X-PUBLISHED-TTL:PT1H
BEGIN:VTIMEZONE
TZID:UTC
BEGIN:STANDARD
TZOFFSETFROM:+0000
TZOFFSETTO:+0000
TZNAME:UTC
DTSTART:20240101T000000
END:STANDARD
END:VTIMEZONE
BEGIN:VEVENT
DTSTART;TZID=UTC:20250625T070000
DTEND;TZID=UTC:20250625T080000
DTSTAMP:20260423T101043
CREATED:20250509T153354Z
LAST-MODIFIED:20250529T190045Z
UID:10009286-1750834800-1750838400@4seasonsresort.com
SUMMARY:Piyo | Spa Kyoto
DESCRIPTION:Join us at the Spa for PiYo! \nMonday and Wednesday 7:00am-8:00am \n$10 per class \nCall 573-365-8108 for more information! \nhttps://spashiki.com/
URL:https://4seasonsresort.com/activity/piyo-spa-shiki-99-2-2/2025-06-25/
LOCATION:Lodge of Four Seasons\, 315 Four Seasons Drive\, Lake Ozark\, MO\, 65049\, United States
ATTACH;FMTTYPE=image/jpeg:https://4seasonsresort.com/wp-content/uploads/2023/12/piyo.jpg
GEO:38.1868815;-92.6857682
X-APPLE-STRUCTURED-LOCATION;VALUE=URI;X-ADDRESS=Lodge of Four Seasons 315 Four Seasons Drive Lake Ozark MO 65049 United States;X-APPLE-RADIUS=500;X-TITLE=315 Four Seasons Drive:geo:-92.6857682,38.1868815
END:VEVENT
BEGIN:VEVENT
DTSTART;TZID=UTC:20250623T070000
DTEND;TZID=UTC:20250623T080000
DTSTAMP:20260423T101043
CREATED:20250509T153354Z
LAST-MODIFIED:20250529T190045Z
UID:10009285-1750662000-1750665600@4seasonsresort.com
SUMMARY:Piyo | Spa Kyoto
DESCRIPTION:Join us at the Spa for PiYo! \nMonday and Wednesday 7:00am-8:00am \n$10 per class \nCall 573-365-8108 for more information! \nhttps://spashiki.com/
URL:https://4seasonsresort.com/activity/piyo-spa-shiki-99-2-2/2025-06-23/
LOCATION:Lodge of Four Seasons\, 315 Four Seasons Drive\, Lake Ozark\, MO\, 65049\, United States
ATTACH;FMTTYPE=image/jpeg:https://4seasonsresort.com/wp-content/uploads/2023/12/piyo.jpg
GEO:38.1868815;-92.6857682
X-APPLE-STRUCTURED-LOCATION;VALUE=URI;X-ADDRESS=Lodge of Four Seasons 315 Four Seasons Drive Lake Ozark MO 65049 United States;X-APPLE-RADIUS=500;X-TITLE=315 Four Seasons Drive:geo:-92.6857682,38.1868815
END:VEVENT
BEGIN:VEVENT
DTSTART;TZID=UTC:20250621T130000
DTEND;TZID=UTC:20250621T170000
DTSTAMP:20260423T101043
CREATED:20250612T180246Z
LAST-MODIFIED:20250612T181248Z
UID:10012079-1750510800-1750525200@4seasonsresort.com
SUMMARY:DJ Poolside
DESCRIPTION:
URL:https://4seasonsresort.com/activity/dj-poolside-3/2025-06-21/
LOCATION:Lodge of Four Seasons\, 315 Four Seasons Drive\, Lake Ozark\, MO\, 65049\, United States
ATTACH;FMTTYPE=image/png:https://4seasonsresort.com/wp-content/uploads/2025/06/DJ-Saturdays.png
GEO:38.1868815;-92.6857682
X-APPLE-STRUCTURED-LOCATION;VALUE=URI;X-ADDRESS=Lodge of Four Seasons 315 Four Seasons Drive Lake Ozark MO 65049 United States;X-APPLE-RADIUS=500;X-TITLE=315 Four Seasons Drive:geo:-92.6857682,38.1868815
END:VEVENT
BEGIN:VEVENT
DTSTART;TZID=UTC:20250620T140000
DTEND;TZID=UTC:20250620T180000
DTSTAMP:20260423T101043
CREATED:20250611T194531Z
LAST-MODIFIED:20250611T194942Z
UID:10012049-1750428000-1750442400@4seasonsresort.com
SUMMARY:DJ Poolside
DESCRIPTION:
URL:https://4seasonsresort.com/activity/dj-poolside-2/2025-06-20/
LOCATION:Lodge of Four Seasons\, 315 Four Seasons Drive\, Lake Ozark\, MO\, 65049\, United States
ATTACH;FMTTYPE=image/png:https://4seasonsresort.com/wp-content/uploads/2025/06/DJ-Fridays.png
GEO:38.1868815;-92.6857682
X-APPLE-STRUCTURED-LOCATION;VALUE=URI;X-ADDRESS=Lodge of Four Seasons 315 Four Seasons Drive Lake Ozark MO 65049 United States;X-APPLE-RADIUS=500;X-TITLE=315 Four Seasons Drive:geo:-92.6857682,38.1868815
END:VEVENT
BEGIN:VEVENT
DTSTART;TZID=UTC:20250619T180000
DTEND;TZID=UTC:20250621T220000
DTSTAMP:20260423T101043
CREATED:20250619T205622Z
LAST-MODIFIED:20250619T205622Z
UID:10011559-1750356000-1750543200@4seasonsresort.com
SUMMARY:MOVIES AT 6PM & 8PM
DESCRIPTION:MOVIE FLYER
URL:https://4seasonsresort.com/activity/movies-at-cordoba-theater-2-2/
LOCATION:Lodge of Four Seasons\, 315 Four Seasons Drive\, Lake Ozark\, MO\, 65049\, United States
ATTACH;FMTTYPE=image/png:https://4seasonsresort.com/wp-content/uploads/2025/05/Music-3.png
GEO:38.1868815;-92.6857682
X-APPLE-STRUCTURED-LOCATION;VALUE=URI;X-ADDRESS=Lodge of Four Seasons 315 Four Seasons Drive Lake Ozark MO 65049 United States;X-APPLE-RADIUS=500;X-TITLE=315 Four Seasons Drive:geo:-92.6857682,38.1868815
END:VEVENT
BEGIN:VEVENT
DTSTART;TZID=UTC:20250619T180000
DTEND;TZID=UTC:20250619T220000
DTSTAMP:20260423T101043
CREATED:20250604T140920Z
LAST-MODIFIED:20250604T171447Z
UID:10011758-1750356000-1750370400@4seasonsresort.com
SUMMARY:MOVIES AT 6PM & 8PM
DESCRIPTION:MOVIE FLYER
URL:https://4seasonsresort.com/activity/movies-at-cordoba-theater-2-2-2/2025-06-19/
LOCATION:Lodge of Four Seasons\, 315 Four Seasons Drive\, Lake Ozark\, MO\, 65049\, United States
ATTACH;FMTTYPE=image/png:https://4seasonsresort.com/wp-content/uploads/2025/05/Music-3.png
GEO:38.1868815;-92.6857682
X-APPLE-STRUCTURED-LOCATION;VALUE=URI;X-ADDRESS=Lodge of Four Seasons 315 Four Seasons Drive Lake Ozark MO 65049 United States;X-APPLE-RADIUS=500;X-TITLE=315 Four Seasons Drive:geo:-92.6857682,38.1868815
END:VEVENT
BEGIN:VEVENT
DTSTART;TZID=UTC:20250618T070000
DTEND;TZID=UTC:20250618T080000
DTSTAMP:20260423T101043
CREATED:20250509T153354Z
LAST-MODIFIED:20250529T190045Z
UID:10009284-1750230000-1750233600@4seasonsresort.com
SUMMARY:Piyo | Spa Kyoto
DESCRIPTION:Join us at the Spa for PiYo! \nMonday and Wednesday 7:00am-8:00am \n$10 per class \nCall 573-365-8108 for more information! \nhttps://spashiki.com/
URL:https://4seasonsresort.com/activity/piyo-spa-shiki-99-2-2/2025-06-18/
LOCATION:Lodge of Four Seasons\, 315 Four Seasons Drive\, Lake Ozark\, MO\, 65049\, United States
ATTACH;FMTTYPE=image/jpeg:https://4seasonsresort.com/wp-content/uploads/2023/12/piyo.jpg
GEO:38.1868815;-92.6857682
X-APPLE-STRUCTURED-LOCATION;VALUE=URI;X-ADDRESS=Lodge of Four Seasons 315 Four Seasons Drive Lake Ozark MO 65049 United States;X-APPLE-RADIUS=500;X-TITLE=315 Four Seasons Drive:geo:-92.6857682,38.1868815
END:VEVENT
BEGIN:VEVENT
DTSTART;TZID=UTC:20250616T070000
DTEND;TZID=UTC:20250616T080000
DTSTAMP:20260423T101043
CREATED:20250509T153354Z
LAST-MODIFIED:20250529T190045Z
UID:10009283-1750057200-1750060800@4seasonsresort.com
SUMMARY:Piyo | Spa Kyoto
DESCRIPTION:Join us at the Spa for PiYo! \nMonday and Wednesday 7:00am-8:00am \n$10 per class \nCall 573-365-8108 for more information! \nhttps://spashiki.com/
URL:https://4seasonsresort.com/activity/piyo-spa-shiki-99-2-2/2025-06-16/
LOCATION:Lodge of Four Seasons\, 315 Four Seasons Drive\, Lake Ozark\, MO\, 65049\, United States
ATTACH;FMTTYPE=image/jpeg:https://4seasonsresort.com/wp-content/uploads/2023/12/piyo.jpg
GEO:38.1868815;-92.6857682
X-APPLE-STRUCTURED-LOCATION;VALUE=URI;X-ADDRESS=Lodge of Four Seasons 315 Four Seasons Drive Lake Ozark MO 65049 United States;X-APPLE-RADIUS=500;X-TITLE=315 Four Seasons Drive:geo:-92.6857682,38.1868815
END:VEVENT
BEGIN:VEVENT
DTSTART;TZID=UTC:20250614T180000
DTEND;TZID=UTC:20250614T220000
DTSTAMP:20260423T101043
CREATED:20250604T140920Z
LAST-MODIFIED:20250604T171447Z
UID:10011923-1749924000-1749938400@4seasonsresort.com
SUMMARY:MOVIES AT 6PM & 8PM
DESCRIPTION:MOVIE FLYER
URL:https://4seasonsresort.com/activity/movies-at-cordoba-theater-2-2-2/2025-06-14/
LOCATION:Lodge of Four Seasons\, 315 Four Seasons Drive\, Lake Ozark\, MO\, 65049\, United States
ATTACH;FMTTYPE=image/png:https://4seasonsresort.com/wp-content/uploads/2025/05/Music-3.png
GEO:38.1868815;-92.6857682
X-APPLE-STRUCTURED-LOCATION;VALUE=URI;X-ADDRESS=Lodge of Four Seasons 315 Four Seasons Drive Lake Ozark MO 65049 United States;X-APPLE-RADIUS=500;X-TITLE=315 Four Seasons Drive:geo:-92.6857682,38.1868815
END:VEVENT
BEGIN:VEVENT
DTSTART;TZID=UTC:20250614T130000
DTEND;TZID=UTC:20250614T170000
DTSTAMP:20260423T101043
CREATED:20250612T180246Z
LAST-MODIFIED:20250612T181248Z
UID:10012078-1749906000-1749920400@4seasonsresort.com
SUMMARY:DJ Poolside
DESCRIPTION:
URL:https://4seasonsresort.com/activity/dj-poolside-3/2025-06-14/
LOCATION:Lodge of Four Seasons\, 315 Four Seasons Drive\, Lake Ozark\, MO\, 65049\, United States
ATTACH;FMTTYPE=image/png:https://4seasonsresort.com/wp-content/uploads/2025/06/DJ-Saturdays.png
GEO:38.1868815;-92.6857682
X-APPLE-STRUCTURED-LOCATION;VALUE=URI;X-ADDRESS=Lodge of Four Seasons 315 Four Seasons Drive Lake Ozark MO 65049 United States;X-APPLE-RADIUS=500;X-TITLE=315 Four Seasons Drive:geo:-92.6857682,38.1868815
END:VEVENT
BEGIN:VEVENT
DTSTART;TZID=UTC:20250613T180000
DTEND;TZID=UTC:20250613T220000
DTSTAMP:20260423T101043
CREATED:20250604T140920Z
LAST-MODIFIED:20250604T171447Z
UID:10011922-1749837600-1749852000@4seasonsresort.com
SUMMARY:MOVIES AT 6PM & 8PM
DESCRIPTION:MOVIE FLYER
URL:https://4seasonsresort.com/activity/movies-at-cordoba-theater-2-2-2/2025-06-13/
LOCATION:Lodge of Four Seasons\, 315 Four Seasons Drive\, Lake Ozark\, MO\, 65049\, United States
ATTACH;FMTTYPE=image/png:https://4seasonsresort.com/wp-content/uploads/2025/05/Music-3.png
GEO:38.1868815;-92.6857682
X-APPLE-STRUCTURED-LOCATION;VALUE=URI;X-ADDRESS=Lodge of Four Seasons 315 Four Seasons Drive Lake Ozark MO 65049 United States;X-APPLE-RADIUS=500;X-TITLE=315 Four Seasons Drive:geo:-92.6857682,38.1868815
END:VEVENT
BEGIN:VEVENT
DTSTART;TZID=UTC:20250613T140000
DTEND;TZID=UTC:20250613T180000
DTSTAMP:20260423T101043
CREATED:20250611T194531Z
LAST-MODIFIED:20250611T194942Z
UID:10012048-1749823200-1749837600@4seasonsresort.com
SUMMARY:DJ Poolside
DESCRIPTION:
URL:https://4seasonsresort.com/activity/dj-poolside-2/2025-06-13/
LOCATION:Lodge of Four Seasons\, 315 Four Seasons Drive\, Lake Ozark\, MO\, 65049\, United States
ATTACH;FMTTYPE=image/png:https://4seasonsresort.com/wp-content/uploads/2025/06/DJ-Fridays.png
GEO:38.1868815;-92.6857682
X-APPLE-STRUCTURED-LOCATION;VALUE=URI;X-ADDRESS=Lodge of Four Seasons 315 Four Seasons Drive Lake Ozark MO 65049 United States;X-APPLE-RADIUS=500;X-TITLE=315 Four Seasons Drive:geo:-92.6857682,38.1868815
END:VEVENT
BEGIN:VEVENT
DTSTART;TZID=UTC:20250612T180000
DTEND;TZID=UTC:20250612T220000
DTSTAMP:20260423T101043
CREATED:20250604T140920Z
LAST-MODIFIED:20250604T171447Z
UID:10011755-1749751200-1749765600@4seasonsresort.com
SUMMARY:MOVIES AT 6PM & 8PM
DESCRIPTION:MOVIE FLYER
URL:https://4seasonsresort.com/activity/movies-at-cordoba-theater-2-2-2/2025-06-12/
LOCATION:Lodge of Four Seasons\, 315 Four Seasons Drive\, Lake Ozark\, MO\, 65049\, United States
ATTACH;FMTTYPE=image/png:https://4seasonsresort.com/wp-content/uploads/2025/05/Music-3.png
GEO:38.1868815;-92.6857682
X-APPLE-STRUCTURED-LOCATION;VALUE=URI;X-ADDRESS=Lodge of Four Seasons 315 Four Seasons Drive Lake Ozark MO 65049 United States;X-APPLE-RADIUS=500;X-TITLE=315 Four Seasons Drive:geo:-92.6857682,38.1868815
END:VEVENT
BEGIN:VEVENT
DTSTART;TZID=UTC:20250611T070000
DTEND;TZID=UTC:20250611T080000
DTSTAMP:20260423T101043
CREATED:20250509T153354Z
LAST-MODIFIED:20250529T190045Z
UID:10009282-1749625200-1749628800@4seasonsresort.com
SUMMARY:Piyo | Spa Kyoto
DESCRIPTION:Join us at the Spa for PiYo! \nMonday and Wednesday 7:00am-8:00am \n$10 per class \nCall 573-365-8108 for more information! \nhttps://spashiki.com/
URL:https://4seasonsresort.com/activity/piyo-spa-shiki-99-2-2/2025-06-11/
LOCATION:Lodge of Four Seasons\, 315 Four Seasons Drive\, Lake Ozark\, MO\, 65049\, United States
ATTACH;FMTTYPE=image/jpeg:https://4seasonsresort.com/wp-content/uploads/2023/12/piyo.jpg
GEO:38.1868815;-92.6857682
X-APPLE-STRUCTURED-LOCATION;VALUE=URI;X-ADDRESS=Lodge of Four Seasons 315 Four Seasons Drive Lake Ozark MO 65049 United States;X-APPLE-RADIUS=500;X-TITLE=315 Four Seasons Drive:geo:-92.6857682,38.1868815
END:VEVENT
BEGIN:VEVENT
DTSTART;TZID=UTC:20250609T070000
DTEND;TZID=UTC:20250609T080000
DTSTAMP:20260423T101043
CREATED:20250509T153354Z
LAST-MODIFIED:20250529T190045Z
UID:10009281-1749452400-1749456000@4seasonsresort.com
SUMMARY:Piyo | Spa Kyoto
DESCRIPTION:Join us at the Spa for PiYo! \nMonday and Wednesday 7:00am-8:00am \n$10 per class \nCall 573-365-8108 for more information! \nhttps://spashiki.com/
URL:https://4seasonsresort.com/activity/piyo-spa-shiki-99-2-2/2025-06-09/
LOCATION:Lodge of Four Seasons\, 315 Four Seasons Drive\, Lake Ozark\, MO\, 65049\, United States
ATTACH;FMTTYPE=image/jpeg:https://4seasonsresort.com/wp-content/uploads/2023/12/piyo.jpg
GEO:38.1868815;-92.6857682
X-APPLE-STRUCTURED-LOCATION;VALUE=URI;X-ADDRESS=Lodge of Four Seasons 315 Four Seasons Drive Lake Ozark MO 65049 United States;X-APPLE-RADIUS=500;X-TITLE=315 Four Seasons Drive:geo:-92.6857682,38.1868815
END:VEVENT
BEGIN:VEVENT
DTSTART;TZID=UTC:20250607T180000
DTEND;TZID=UTC:20250607T220000
DTSTAMP:20260423T101043
CREATED:20250604T140920Z
LAST-MODIFIED:20250604T171447Z
UID:10011921-1749319200-1749333600@4seasonsresort.com
SUMMARY:MOVIES AT 6PM & 8PM
DESCRIPTION:MOVIE FLYER
URL:https://4seasonsresort.com/activity/movies-at-cordoba-theater-2-2-2/2025-06-07/
LOCATION:Lodge of Four Seasons\, 315 Four Seasons Drive\, Lake Ozark\, MO\, 65049\, United States
ATTACH;FMTTYPE=image/png:https://4seasonsresort.com/wp-content/uploads/2025/05/Music-3.png
GEO:38.1868815;-92.6857682
X-APPLE-STRUCTURED-LOCATION;VALUE=URI;X-ADDRESS=Lodge of Four Seasons 315 Four Seasons Drive Lake Ozark MO 65049 United States;X-APPLE-RADIUS=500;X-TITLE=315 Four Seasons Drive:geo:-92.6857682,38.1868815
END:VEVENT
BEGIN:VEVENT
DTSTART;TZID=UTC:20250606T180000
DTEND;TZID=UTC:20250606T220000
DTSTAMP:20260423T101043
CREATED:20250604T140920Z
LAST-MODIFIED:20250604T171447Z
UID:10011920-1749232800-1749247200@4seasonsresort.com
SUMMARY:MOVIES AT 6PM & 8PM
DESCRIPTION:MOVIE FLYER
URL:https://4seasonsresort.com/activity/movies-at-cordoba-theater-2-2-2/2025-06-06/
LOCATION:Lodge of Four Seasons\, 315 Four Seasons Drive\, Lake Ozark\, MO\, 65049\, United States
ATTACH;FMTTYPE=image/png:https://4seasonsresort.com/wp-content/uploads/2025/05/Music-3.png
GEO:38.1868815;-92.6857682
X-APPLE-STRUCTURED-LOCATION;VALUE=URI;X-ADDRESS=Lodge of Four Seasons 315 Four Seasons Drive Lake Ozark MO 65049 United States;X-APPLE-RADIUS=500;X-TITLE=315 Four Seasons Drive:geo:-92.6857682,38.1868815
END:VEVENT
BEGIN:VEVENT
DTSTART;TZID=UTC:20250606T140000
DTEND;TZID=UTC:20250606T180000
DTSTAMP:20260423T101043
CREATED:20250611T194531Z
LAST-MODIFIED:20250611T194942Z
UID:10012047-1749218400-1749232800@4seasonsresort.com
SUMMARY:DJ Poolside
DESCRIPTION:
URL:https://4seasonsresort.com/activity/dj-poolside-2/2025-06-06/
LOCATION:Lodge of Four Seasons\, 315 Four Seasons Drive\, Lake Ozark\, MO\, 65049\, United States
ATTACH;FMTTYPE=image/png:https://4seasonsresort.com/wp-content/uploads/2025/06/DJ-Fridays.png
GEO:38.1868815;-92.6857682
X-APPLE-STRUCTURED-LOCATION;VALUE=URI;X-ADDRESS=Lodge of Four Seasons 315 Four Seasons Drive Lake Ozark MO 65049 United States;X-APPLE-RADIUS=500;X-TITLE=315 Four Seasons Drive:geo:-92.6857682,38.1868815
END:VEVENT
BEGIN:VEVENT
DTSTART;TZID=UTC:20250605T180000
DTEND;TZID=UTC:20250605T220000
DTSTAMP:20260423T101043
CREATED:20250604T140920Z
LAST-MODIFIED:20250604T171447Z
UID:10011468-1749146400-1749160800@4seasonsresort.com
SUMMARY:MOVIES AT 6PM & 8PM
DESCRIPTION:MOVIE FLYER
URL:https://4seasonsresort.com/activity/movies-at-cordoba-theater-2-2-2/2025-06-05/
LOCATION:Lodge of Four Seasons\, 315 Four Seasons Drive\, Lake Ozark\, MO\, 65049\, United States
ATTACH;FMTTYPE=image/png:https://4seasonsresort.com/wp-content/uploads/2025/05/Music-3.png
GEO:38.1868815;-92.6857682
X-APPLE-STRUCTURED-LOCATION;VALUE=URI;X-ADDRESS=Lodge of Four Seasons 315 Four Seasons Drive Lake Ozark MO 65049 United States;X-APPLE-RADIUS=500;X-TITLE=315 Four Seasons Drive:geo:-92.6857682,38.1868815
END:VEVENT
BEGIN:VEVENT
DTSTART;TZID=UTC:20250604T070000
DTEND;TZID=UTC:20250604T080000
DTSTAMP:20260423T101043
CREATED:20250509T153354Z
LAST-MODIFIED:20250529T190045Z
UID:10009280-1749020400-1749024000@4seasonsresort.com
SUMMARY:Piyo | Spa Kyoto
DESCRIPTION:Join us at the Spa for PiYo! \nMonday and Wednesday 7:00am-8:00am \n$10 per class \nCall 573-365-8108 for more information! \nhttps://spashiki.com/
URL:https://4seasonsresort.com/activity/piyo-spa-shiki-99-2-2/2025-06-04/
LOCATION:Lodge of Four Seasons\, 315 Four Seasons Drive\, Lake Ozark\, MO\, 65049\, United States
ATTACH;FMTTYPE=image/jpeg:https://4seasonsresort.com/wp-content/uploads/2023/12/piyo.jpg
GEO:38.1868815;-92.6857682
X-APPLE-STRUCTURED-LOCATION;VALUE=URI;X-ADDRESS=Lodge of Four Seasons 315 Four Seasons Drive Lake Ozark MO 65049 United States;X-APPLE-RADIUS=500;X-TITLE=315 Four Seasons Drive:geo:-92.6857682,38.1868815
END:VEVENT
BEGIN:VEVENT
DTSTART;TZID=UTC:20250602T070000
DTEND;TZID=UTC:20250602T080000
DTSTAMP:20260423T101043
CREATED:20250509T153354Z
LAST-MODIFIED:20250529T190045Z
UID:10009279-1748847600-1748851200@4seasonsresort.com
SUMMARY:Piyo | Spa Kyoto
DESCRIPTION:Join us at the Spa for PiYo! \nMonday and Wednesday 7:00am-8:00am \n$10 per class \nCall 573-365-8108 for more information! \nhttps://spashiki.com/
URL:https://4seasonsresort.com/activity/piyo-spa-shiki-99-2-2/2025-06-02/
LOCATION:Lodge of Four Seasons\, 315 Four Seasons Drive\, Lake Ozark\, MO\, 65049\, United States
ATTACH;FMTTYPE=image/jpeg:https://4seasonsresort.com/wp-content/uploads/2023/12/piyo.jpg
GEO:38.1868815;-92.6857682
X-APPLE-STRUCTURED-LOCATION;VALUE=URI;X-ADDRESS=Lodge of Four Seasons 315 Four Seasons Drive Lake Ozark MO 65049 United States;X-APPLE-RADIUS=500;X-TITLE=315 Four Seasons Drive:geo:-92.6857682,38.1868815
END:VEVENT
BEGIN:VEVENT
DTSTART;TZID=UTC:20250530T180000
DTEND;TZID=UTC:20250530T220000
DTSTAMP:20260423T101043
CREATED:20250529T182457Z
LAST-MODIFIED:20250529T183837Z
UID:10011558-1748628000-1748642400@4seasonsresort.com
SUMMARY:MOVIES AT 6PM & 8PM
DESCRIPTION:MOVIE LISTINGS
URL:https://4seasonsresort.com/activity/movies-at-cordoba-theater-2/2025-05-30/
LOCATION:Lodge of Four Seasons\, 315 Four Seasons Drive\, Lake Ozark\, MO\, 65049\, United States
ATTACH;FMTTYPE=image/png:https://4seasonsresort.com/wp-content/uploads/2025/05/Music-3.png
GEO:38.1868815;-92.6857682
X-APPLE-STRUCTURED-LOCATION;VALUE=URI;X-ADDRESS=Lodge of Four Seasons 315 Four Seasons Drive Lake Ozark MO 65049 United States;X-APPLE-RADIUS=500;X-TITLE=315 Four Seasons Drive:geo:-92.6857682,38.1868815
END:VEVENT
BEGIN:VEVENT
DTSTART;TZID=UTC:20250530T140000
DTEND;TZID=UTC:20250530T180000
DTSTAMP:20260423T101043
CREATED:20250611T194531Z
LAST-MODIFIED:20250611T194942Z
UID:10012046-1748613600-1748628000@4seasonsresort.com
SUMMARY:DJ Poolside
DESCRIPTION:
URL:https://4seasonsresort.com/activity/dj-poolside-2/2025-05-30/
LOCATION:Lodge of Four Seasons\, 315 Four Seasons Drive\, Lake Ozark\, MO\, 65049\, United States
ATTACH;FMTTYPE=image/png:https://4seasonsresort.com/wp-content/uploads/2025/06/DJ-Fridays.png
GEO:38.1868815;-92.6857682
X-APPLE-STRUCTURED-LOCATION;VALUE=URI;X-ADDRESS=Lodge of Four Seasons 315 Four Seasons Drive Lake Ozark MO 65049 United States;X-APPLE-RADIUS=500;X-TITLE=315 Four Seasons Drive:geo:-92.6857682,38.1868815
END:VEVENT
BEGIN:VEVENT
DTSTART;TZID=UTC:20250529T180000
DTEND;TZID=UTC:20250529T220000
DTSTAMP:20260423T101043
CREATED:20250529T182457Z
LAST-MODIFIED:20250529T183837Z
UID:10011216-1748541600-1748556000@4seasonsresort.com
SUMMARY:MOVIES AT 6PM & 8PM
DESCRIPTION:MOVIE LISTINGS
URL:https://4seasonsresort.com/activity/movies-at-cordoba-theater-2/2025-05-29/
LOCATION:Lodge of Four Seasons\, 315 Four Seasons Drive\, Lake Ozark\, MO\, 65049\, United States
ATTACH;FMTTYPE=image/png:https://4seasonsresort.com/wp-content/uploads/2025/05/Music-3.png
GEO:38.1868815;-92.6857682
X-APPLE-STRUCTURED-LOCATION;VALUE=URI;X-ADDRESS=Lodge of Four Seasons 315 Four Seasons Drive Lake Ozark MO 65049 United States;X-APPLE-RADIUS=500;X-TITLE=315 Four Seasons Drive:geo:-92.6857682,38.1868815
END:VEVENT
BEGIN:VEVENT
DTSTART;TZID=UTC:20250528T070000
DTEND;TZID=UTC:20250528T080000
DTSTAMP:20260423T101043
CREATED:20250509T153354Z
LAST-MODIFIED:20250529T190045Z
UID:10009278-1748415600-1748419200@4seasonsresort.com
SUMMARY:Piyo | Spa Kyoto
DESCRIPTION:Join us at the Spa for PiYo! \nMonday and Wednesday 7:00am-8:00am \n$10 per class \nCall 573-365-8108 for more information! \nhttps://spashiki.com/
URL:https://4seasonsresort.com/activity/piyo-spa-shiki-99-2-2/2025-05-28/
LOCATION:Lodge of Four Seasons\, 315 Four Seasons Drive\, Lake Ozark\, MO\, 65049\, United States
ATTACH;FMTTYPE=image/jpeg:https://4seasonsresort.com/wp-content/uploads/2023/12/piyo.jpg
GEO:38.1868815;-92.6857682
X-APPLE-STRUCTURED-LOCATION;VALUE=URI;X-ADDRESS=Lodge of Four Seasons 315 Four Seasons Drive Lake Ozark MO 65049 United States;X-APPLE-RADIUS=500;X-TITLE=315 Four Seasons Drive:geo:-92.6857682,38.1868815
END:VEVENT
BEGIN:VEVENT
DTSTART;TZID=UTC:20250526T070000
DTEND;TZID=UTC:20250526T080000
DTSTAMP:20260423T101043
CREATED:20250509T153354Z
LAST-MODIFIED:20250529T190045Z
UID:10009277-1748242800-1748246400@4seasonsresort.com
SUMMARY:Piyo | Spa Kyoto
DESCRIPTION:Join us at the Spa for PiYo! \nMonday and Wednesday 7:00am-8:00am \n$10 per class \nCall 573-365-8108 for more information! \nhttps://spashiki.com/
URL:https://4seasonsresort.com/activity/piyo-spa-shiki-99-2-2/2025-05-26/
LOCATION:Lodge of Four Seasons\, 315 Four Seasons Drive\, Lake Ozark\, MO\, 65049\, United States
ATTACH;FMTTYPE=image/jpeg:https://4seasonsresort.com/wp-content/uploads/2023/12/piyo.jpg
GEO:38.1868815;-92.6857682
X-APPLE-STRUCTURED-LOCATION;VALUE=URI;X-ADDRESS=Lodge of Four Seasons 315 Four Seasons Drive Lake Ozark MO 65049 United States;X-APPLE-RADIUS=500;X-TITLE=315 Four Seasons Drive:geo:-92.6857682,38.1868815
END:VEVENT
BEGIN:VEVENT
DTSTART;TZID=UTC:20250521T070000
DTEND;TZID=UTC:20250521T080000
DTSTAMP:20260423T101043
CREATED:20250509T153354Z
LAST-MODIFIED:20250529T190045Z
UID:10009276-1747810800-1747814400@4seasonsresort.com
SUMMARY:Piyo | Spa Kyoto
DESCRIPTION:Join us at the Spa for PiYo! \nMonday and Wednesday 7:00am-8:00am \n$10 per class \nCall 573-365-8108 for more information! \nhttps://spashiki.com/
URL:https://4seasonsresort.com/activity/piyo-spa-shiki-99-2-2/2025-05-21/
LOCATION:Lodge of Four Seasons\, 315 Four Seasons Drive\, Lake Ozark\, MO\, 65049\, United States
ATTACH;FMTTYPE=image/jpeg:https://4seasonsresort.com/wp-content/uploads/2023/12/piyo.jpg
GEO:38.1868815;-92.6857682
X-APPLE-STRUCTURED-LOCATION;VALUE=URI;X-ADDRESS=Lodge of Four Seasons 315 Four Seasons Drive Lake Ozark MO 65049 United States;X-APPLE-RADIUS=500;X-TITLE=315 Four Seasons Drive:geo:-92.6857682,38.1868815
END:VEVENT
BEGIN:VEVENT
DTSTART;TZID=UTC:20250519T070000
DTEND;TZID=UTC:20250519T080000
DTSTAMP:20260423T101043
CREATED:20250509T153354Z
LAST-MODIFIED:20250529T190045Z
UID:10009275-1747638000-1747641600@4seasonsresort.com
SUMMARY:Piyo | Spa Kyoto
DESCRIPTION:Join us at the Spa for PiYo! \nMonday and Wednesday 7:00am-8:00am \n$10 per class \nCall 573-365-8108 for more information! \nhttps://spashiki.com/
URL:https://4seasonsresort.com/activity/piyo-spa-shiki-99-2-2/2025-05-19/
LOCATION:Lodge of Four Seasons\, 315 Four Seasons Drive\, Lake Ozark\, MO\, 65049\, United States
ATTACH;FMTTYPE=image/jpeg:https://4seasonsresort.com/wp-content/uploads/2023/12/piyo.jpg
GEO:38.1868815;-92.6857682
X-APPLE-STRUCTURED-LOCATION;VALUE=URI;X-ADDRESS=Lodge of Four Seasons 315 Four Seasons Drive Lake Ozark MO 65049 United States;X-APPLE-RADIUS=500;X-TITLE=315 Four Seasons Drive:geo:-92.6857682,38.1868815
END:VEVENT
BEGIN:VEVENT
DTSTART;TZID=UTC:20250514T070000
DTEND;TZID=UTC:20250514T080000
DTSTAMP:20260423T101043
CREATED:20250509T153354Z
LAST-MODIFIED:20250529T190045Z
UID:10009274-1747206000-1747209600@4seasonsresort.com
SUMMARY:Piyo | Spa Kyoto
DESCRIPTION:Join us at the Spa for PiYo! \nMonday and Wednesday 7:00am-8:00am \n$10 per class \nCall 573-365-8108 for more information! \nhttps://spashiki.com/
URL:https://4seasonsresort.com/activity/piyo-spa-shiki-99-2-2/2025-05-14/
LOCATION:Lodge of Four Seasons\, 315 Four Seasons Drive\, Lake Ozark\, MO\, 65049\, United States
ATTACH;FMTTYPE=image/jpeg:https://4seasonsresort.com/wp-content/uploads/2023/12/piyo.jpg
GEO:38.1868815;-92.6857682
X-APPLE-STRUCTURED-LOCATION;VALUE=URI;X-ADDRESS=Lodge of Four Seasons 315 Four Seasons Drive Lake Ozark MO 65049 United States;X-APPLE-RADIUS=500;X-TITLE=315 Four Seasons Drive:geo:-92.6857682,38.1868815
END:VEVENT
BEGIN:VEVENT
DTSTART;TZID=UTC:20250512T070000
DTEND;TZID=UTC:20250512T080000
DTSTAMP:20260423T101043
CREATED:20250509T153354Z
LAST-MODIFIED:20250529T190045Z
UID:10009273-1747033200-1747036800@4seasonsresort.com
SUMMARY:Piyo | Spa Kyoto
DESCRIPTION:Join us at the Spa for PiYo! \nMonday and Wednesday 7:00am-8:00am \n$10 per class \nCall 573-365-8108 for more information! \nhttps://spashiki.com/
URL:https://4seasonsresort.com/activity/piyo-spa-shiki-99-2-2/2025-05-12/
LOCATION:Lodge of Four Seasons\, 315 Four Seasons Drive\, Lake Ozark\, MO\, 65049\, United States
ATTACH;FMTTYPE=image/jpeg:https://4seasonsresort.com/wp-content/uploads/2023/12/piyo.jpg
GEO:38.1868815;-92.6857682
X-APPLE-STRUCTURED-LOCATION;VALUE=URI;X-ADDRESS=Lodge of Four Seasons 315 Four Seasons Drive Lake Ozark MO 65049 United States;X-APPLE-RADIUS=500;X-TITLE=315 Four Seasons Drive:geo:-92.6857682,38.1868815
END:VEVENT
END:VCALENDAR