BEGIN:VCALENDAR
VERSION:2.0
PRODID:-//Lodge of Four Seasons - ECPv6.15.20//NONSGML v1.0//EN
CALSCALE:GREGORIAN
METHOD:PUBLISH
X-ORIGINAL-URL:https://4seasonsresort.com
X-WR-CALDESC:Events for Lodge of Four Seasons
REFRESH-INTERVAL;VALUE=DURATION:PT1H
X-Robots-Tag:noindex
X-PUBLISHED-TTL:PT1H
BEGIN:VTIMEZONE
TZID:UTC
BEGIN:STANDARD
TZOFFSETFROM:+0000
TZOFFSETTO:+0000
TZNAME:UTC
DTSTART:20240101T000000
END:STANDARD
END:VTIMEZONE
BEGIN:VEVENT
DTSTART;TZID=UTC:20250814T180000
DTEND;TZID=UTC:20250816T220000
DTSTAMP:20260424T181450
CREATED:20250813T194152Z
LAST-MODIFIED:20250813T194152Z
UID:10013303-1755194400-1755381600@4seasonsresort.com
SUMMARY:Movies at The Lodge
DESCRIPTION:VIEW FLYER
URL:https://4seasonsresort.com/activity/movies-at-the-lodge-6/
LOCATION:Lodge of Four Seasons\, 315 Four Seasons Drive\, Lake Ozark\, MO\, 65049\, United States
ATTACH;FMTTYPE=image/png:https://4seasonsresort.com/wp-content/uploads/2025/05/Music-3.png
GEO:38.1868815;-92.6857682
X-APPLE-STRUCTURED-LOCATION;VALUE=URI;X-ADDRESS=Lodge of Four Seasons 315 Four Seasons Drive Lake Ozark MO 65049 United States;X-APPLE-RADIUS=500;X-TITLE=315 Four Seasons Drive:geo:-92.6857682,38.1868815
END:VEVENT
BEGIN:VEVENT
DTSTART;TZID=UTC:20250816T080000
DTEND;TZID=UTC:20250817T170000
DTSTAMP:20260424T181450
CREATED:20250728T141636Z
LAST-MODIFIED:20250728T141826Z
UID:10013249-1755331200-1755450000@4seasonsresort.com
SUMMARY:Mini Shootout
DESCRIPTION:Date \n\nSaturday\, August 16 – Sunday\, August 17\n\n\n\n\n\n\n\nThe Lake of the Ozarks Mini-Shootout\, presented by Van Cadillac\, is back and better than ever!\nJoin us August 16 & 17\, 2025 at Ha Ha Tonka State Park – Soring Area for high-speed action on a smaller scale. Watch as remote-controlled boats race for glory and the coveted Top Gun title! Bring the whole crew—this event is fast\, fun\, and free to watch! \nCheck website or Facebook for Times \n$40 per boat/Free for Spectators \nSprings Area at Ha Ha Tonka State Park\n92 Tonka Spring Ct\nCamdenton \nLake of the Ozarks Shootout\n573-434-3552\nrickie@lakeoftheozarksshootout.com \nhttps://funlake.com/events#event=77680649;instance=20250816000000?popup=1&lang=en-US
URL:https://4seasonsresort.com/activity/mini-shootout/
LOCATION:Lodge of Four Seasons\, 315 Four Seasons Drive\, Lake Ozark\, MO\, 65049\, United States
GEO:38.1868815;-92.6857682
X-APPLE-STRUCTURED-LOCATION;VALUE=URI;X-ADDRESS=Lodge of Four Seasons 315 Four Seasons Drive Lake Ozark MO 65049 United States;X-APPLE-RADIUS=500;X-TITLE=315 Four Seasons Drive:geo:-92.6857682,38.1868815
END:VEVENT
BEGIN:VEVENT
DTSTART;TZID=UTC:20250816T090000
DTEND;TZID=UTC:20250816T100000
DTSTAMP:20260424T181450
CREATED:20250708T202652Z
LAST-MODIFIED:20250708T202652Z
UID:10012424-1755334800-1755338400@4seasonsresort.com
SUMMARY:Spa Kyoto Fitness Schedule
DESCRIPTION:*PiYo (Pilates+Yogo)* \nWhat Is PiYo? \nPiYo blends the muscle-sculpting\, core-strengthening benefits of Pilates with the flexibility and strength of yoga. This low-impact\, fat-burning workout designed to build endurance\, improve balance\, and tone your entire body—without high-impact movements. \nPerfect for all ages and fitness levels\, PiYo offers a dynamic\, flowing routine that leaves you feeling strong\, energized\, and centered. \nCost \n$10 \nInstructor Tammy Barra: AFAA certified\, Piyo certified. \nHas been teaching Pilates for over 15 years and Piyo since 2015. \n  \n*Water Aerobics * \nMake a Splash with This Energizing Water Workout! \nGet your heart pumping and burn calories in this dynamic\, fast-paced aquatic fitness class—perfect for all fitness levels! Our instructors offer modifications to suit individual needs\, ensuring everyone gets a great workout. \n\nFirst Half: Dive into deep water with a swim belt for cardio-focused exercises.\nSecond Half: Transition to the shallow end and tone up using water weights.\nDuration: 45 minutes of movement followed by a 5-minute stretch and cool down.\n\nWhat to Bring: A swim belt and water weights are recommended for the best experience. \nCost \n$10 \nInstrutor: Betsy Spica \nCertified Swim Instructor\, ACE Personal Trainer \n*Saturday Morning Sunrise Yoga*  \nRestorative Yoga \nStart your Saturday morning with intention and connection.  Perfect for all levels\, this session focuses on gentle stretching to restore balance and energy. The class encourages complete relaxation and releases tension in the body and calms the mind. \nCost \n$10 \nInstructor Nicole Roberts: \nCertified Yoga instructor by Yoga Alliance \nVIEW FITNESS SCHEDULE
URL:https://4seasonsresort.com/activity/spa-kyoto-fitness-schedule-3/2025-08-16/
LOCATION:Lodge of Four Seasons\, 315 Four Seasons Drive\, Lake Ozark\, MO\, 65049\, United States
ATTACH;FMTTYPE=image/jpeg:https://4seasonsresort.com/wp-content/uploads/2025/07/Spa-Kyoto-Logo-for-Set-Feature-1-2.jpg
GEO:38.1868815;-92.6857682
X-APPLE-STRUCTURED-LOCATION;VALUE=URI;X-ADDRESS=Lodge of Four Seasons 315 Four Seasons Drive Lake Ozark MO 65049 United States;X-APPLE-RADIUS=500;X-TITLE=315 Four Seasons Drive:geo:-92.6857682,38.1868815
END:VEVENT
BEGIN:VEVENT
DTSTART;TZID=UTC:20250816T130000
DTEND;TZID=UTC:20250816T170000
DTSTAMP:20260424T181450
CREATED:20250612T180246Z
LAST-MODIFIED:20250612T181248Z
UID:10012087-1755349200-1755363600@4seasonsresort.com
SUMMARY:DJ Poolside
DESCRIPTION:
URL:https://4seasonsresort.com/activity/dj-poolside-3/2025-08-16/
LOCATION:Lodge of Four Seasons\, 315 Four Seasons Drive\, Lake Ozark\, MO\, 65049\, United States
ATTACH;FMTTYPE=image/png:https://4seasonsresort.com/wp-content/uploads/2025/06/DJ-Saturdays.png
GEO:38.1868815;-92.6857682
X-APPLE-STRUCTURED-LOCATION;VALUE=URI;X-ADDRESS=Lodge of Four Seasons 315 Four Seasons Drive Lake Ozark MO 65049 United States;X-APPLE-RADIUS=500;X-TITLE=315 Four Seasons Drive:geo:-92.6857682,38.1868815
END:VEVENT
BEGIN:VEVENT
DTSTART;TZID=UTC:20250816T183000
DTEND;TZID=UTC:20250816T213000
DTSTAMP:20260424T181450
CREATED:20250408T205628Z
LAST-MODIFIED:20250408T205628Z
UID:10010802-1755369000-1755379800@4seasonsresort.com
SUMMARY:Live Music | HK'S Restaurant
DESCRIPTION:Join us on Saturday\, August 16 from 6:30 – 9:30 p.m. at HK’s Restaurant & Bar for live music\nfrom favorite local artists\, craft cocktails and delicious food. \nTonight’s Featured Artist: Joy Wall\nRESERVE YOUR TABLE  \nVIEW MENU \n  \n 
URL:https://4seasonsresort.com/activity/live-music-hks-restaurant-46/
LOCATION:Lodge of Four Seasons\, 315 Four Seasons Drive\, Lake Ozark\, MO\, 65049\, United States
ATTACH;FMTTYPE=image/png:https://4seasonsresort.com/wp-content/uploads/2024/01/Live-music-.png
GEO:38.1868815;-92.6857682
X-APPLE-STRUCTURED-LOCATION;VALUE=URI;X-ADDRESS=Lodge of Four Seasons 315 Four Seasons Drive Lake Ozark MO 65049 United States;X-APPLE-RADIUS=500;X-TITLE=315 Four Seasons Drive:geo:-92.6857682,38.1868815
END:VEVENT
END:VCALENDAR