BEGIN:VCALENDAR
VERSION:2.0
PRODID:-//Lodge of Four Seasons - ECPv6.15.20//NONSGML v1.0//EN
CALSCALE:GREGORIAN
METHOD:PUBLISH
X-ORIGINAL-URL:https://4seasonsresort.com
X-WR-CALDESC:Events for Lodge of Four Seasons
REFRESH-INTERVAL;VALUE=DURATION:PT1H
X-Robots-Tag:noindex
X-PUBLISHED-TTL:PT1H
BEGIN:VTIMEZONE
TZID:UTC
BEGIN:STANDARD
TZOFFSETFROM:+0000
TZOFFSETTO:+0000
TZNAME:UTC
DTSTART:20240101T000000
END:STANDARD
END:VTIMEZONE
BEGIN:VEVENT
DTSTART;TZID=UTC:20250607T180000
DTEND;TZID=UTC:20250607T220000
DTSTAMP:20260425T104712
CREATED:20250604T140920Z
LAST-MODIFIED:20250604T171447Z
UID:10011921-1749319200-1749333600@4seasonsresort.com
SUMMARY:MOVIES AT 6PM & 8PM
DESCRIPTION:MOVIE FLYER
URL:https://4seasonsresort.com/activity/movies-at-cordoba-theater-2-2-2/2025-06-07/
LOCATION:Lodge of Four Seasons\, 315 Four Seasons Drive\, Lake Ozark\, MO\, 65049\, United States
ATTACH;FMTTYPE=image/png:https://4seasonsresort.com/wp-content/uploads/2025/05/Music-3.png
GEO:38.1868815;-92.6857682
X-APPLE-STRUCTURED-LOCATION;VALUE=URI;X-ADDRESS=Lodge of Four Seasons 315 Four Seasons Drive Lake Ozark MO 65049 United States;X-APPLE-RADIUS=500;X-TITLE=315 Four Seasons Drive:geo:-92.6857682,38.1868815
END:VEVENT
BEGIN:VEVENT
DTSTART;TZID=UTC:20250607T183000
DTEND;TZID=UTC:20250607T213000
DTSTAMP:20260425T104712
CREATED:20250408T202528Z
LAST-MODIFIED:20250408T202843Z
UID:10010784-1749321000-1749331800@4seasonsresort.com
SUMMARY:Live Music | HK'S Restaurant
DESCRIPTION:Join us on Saturday\, June 7 from 6:30 – 9:30 p.m. at HK’s Restaurant & Bar for live music\nfrom favorite local artists\, craft cocktails and delicious food. \nTonight’s Featured Artist: Starla & Scotty\nRESERVE YOUR TABLE  \nVIEW MENU \n  \n 
URL:https://4seasonsresort.com/activity/live-music-hks-restaurant-28/
LOCATION:Lodge of Four Seasons\, 315 Four Seasons Drive\, Lake Ozark\, MO\, 65049\, United States
ATTACH;FMTTYPE=image/png:https://4seasonsresort.com/wp-content/uploads/2024/01/Live-music-.png
GEO:38.1868815;-92.6857682
X-APPLE-STRUCTURED-LOCATION;VALUE=URI;X-ADDRESS=Lodge of Four Seasons 315 Four Seasons Drive Lake Ozark MO 65049 United States;X-APPLE-RADIUS=500;X-TITLE=315 Four Seasons Drive:geo:-92.6857682,38.1868815
END:VEVENT
END:VCALENDAR