BEGIN:VCALENDAR
VERSION:2.0
PRODID:-//Lodge of Four Seasons - ECPv6.15.20//NONSGML v1.0//EN
CALSCALE:GREGORIAN
METHOD:PUBLISH
X-WR-CALNAME:Lodge of Four Seasons
X-ORIGINAL-URL:https://4seasonsresort.com
X-WR-CALDESC:Events for Lodge of Four Seasons
REFRESH-INTERVAL;VALUE=DURATION:PT1H
X-Robots-Tag:noindex
X-PUBLISHED-TTL:PT1H
BEGIN:VTIMEZONE
TZID:UTC
BEGIN:STANDARD
TZOFFSETFROM:+0000
TZOFFSETTO:+0000
TZNAME:UTC
DTSTART:20240101T000000
END:STANDARD
END:VTIMEZONE
BEGIN:VEVENT
DTSTART;TZID=UTC:20250411T183000
DTEND;TZID=UTC:20250411T213000
DTSTAMP:20260421T173341
CREATED:20250408T154415Z
LAST-MODIFIED:20250408T154856Z
UID:10010766-1744396200-1744407000@4seasonsresort.com
SUMMARY:Live Music | HK'S Restaurant
DESCRIPTION:Join us on Friday\, April 11 from 6:30 – 9:30 p.m. at HK’s Restaurant & Bar for live music\nfrom favorite local artists\, craft cocktails and delicious food. \nTonight’s Featured Artist: Don Akers\nRESERVE YOUR TABLE  \nVIEW MENU \n  \n 
URL:https://4seasonsresort.com/activity/live-music-hks-restaurant-10/
LOCATION:Lodge of Four Seasons\, 315 Four Seasons Drive\, Lake Ozark\, MO\, 65049\, United States
ATTACH;FMTTYPE=image/png:https://4seasonsresort.com/wp-content/uploads/2024/01/Live-music-.png
GEO:38.1868815;-92.6857682
X-APPLE-STRUCTURED-LOCATION;VALUE=URI;X-ADDRESS=Lodge of Four Seasons 315 Four Seasons Drive Lake Ozark MO 65049 United States;X-APPLE-RADIUS=500;X-TITLE=315 Four Seasons Drive:geo:-92.6857682,38.1868815
END:VEVENT
END:VCALENDAR