BEGIN:VCALENDAR
VERSION:2.0
PRODID:-//Lodge of Four Seasons - ECPv6.15.20//NONSGML v1.0//EN
CALSCALE:GREGORIAN
METHOD:PUBLISH
X-ORIGINAL-URL:https://4seasonsresort.com
X-WR-CALDESC:Events for Lodge of Four Seasons
REFRESH-INTERVAL;VALUE=DURATION:PT1H
X-Robots-Tag:noindex
X-PUBLISHED-TTL:PT1H
BEGIN:VTIMEZONE
TZID:UTC
BEGIN:STANDARD
TZOFFSETFROM:+0000
TZOFFSETTO:+0000
TZNAME:UTC
DTSTART:20230101T000000
END:STANDARD
END:VTIMEZONE
BEGIN:VEVENT
DTSTART;TZID=UTC:20240907T080000
DTEND;TZID=UTC:20240907T153000
DTSTAMP:20260422T095046
CREATED:20240822T144608Z
LAST-MODIFIED:20240822T164000Z
UID:10009453-1725696000-1725723000@4seasonsresort.com
SUMMARY:Lake Of The Ozarks Air Show
DESCRIPTION:WHERE: Camdenton Memorial Airport\, 20 Airport Dr.\, Camdenton\, MO 65020 \nExciting air show performers\, historical aircraft and entertainment await you at the Lake of the Ozarks Air Show! \nAIR SHOW DATE: Saturday\, September 7th\, 2024\, 8:00 am-3:30 pm \n*Rain date of September 8th\, 2024 \nPARKING COST: $10 Per Vehicle. This applies to all vehicles on Saturday\, September 7th. \nFree off-site parking available on Saturday\, September 7th at the Camdenton Middle School with free shuttle service to the Air Show. \nMotorcycle parking available at the Air Show for the same $10 fee. Handicap parking available but must have a handicap license plate or handicap hang tag in your vehicle. All others will have to plan accordingly. We will have some golf carts shuttling people from the parking area but it will be limited.
URL:https://4seasonsresort.com/activity/145020/
LOCATION:Lodge of Four Seasons\, 315 Four Seasons Drive\, Lake Ozark\, MO\, 65049\, United States
ATTACH;FMTTYPE=image/png:https://4seasonsresort.com/wp-content/uploads/2024/08/2.png
GEO:38.1868815;-92.6857682
X-APPLE-STRUCTURED-LOCATION;VALUE=URI;X-ADDRESS=Lodge of Four Seasons 315 Four Seasons Drive Lake Ozark MO 65049 United States;X-APPLE-RADIUS=500;X-TITLE=315 Four Seasons Drive:geo:-92.6857682,38.1868815
END:VEVENT
BEGIN:VEVENT
DTSTART;TZID=UTC:20240907T183000
DTEND;TZID=UTC:20240907T213000
DTSTAMP:20260422T095046
CREATED:20240112T201858Z
LAST-MODIFIED:20240424T154002Z
UID:10007865-1725733800-1725744600@4seasonsresort.com
SUMMARY:Live Music | HK'S Restaurant
DESCRIPTION:Join us weekly\, Friday and Saturday\, 6:30 – 9:30 p.m.\, at HK’s Restaurant & Bar for live music from favorite local artists\, craft cocktails\, and delicious food from Chef Gary. \nHK’s opens daily at 3pm. \nTonight’s Featured Artist: \nRESERVE YOUR TABLE
URL:https://4seasonsresort.com/activity/live-music-hks-restaurant-8/2024-09-07/
LOCATION:Lodge of Four Seasons\, 315 Four Seasons Drive\, Lake Ozark\, MO\, 65049\, United States
ATTACH;FMTTYPE=image/png:https://4seasonsresort.com/wp-content/uploads/2024/01/Live-music-.png
GEO:38.1868815;-92.6857682
X-APPLE-STRUCTURED-LOCATION;VALUE=URI;X-ADDRESS=Lodge of Four Seasons 315 Four Seasons Drive Lake Ozark MO 65049 United States;X-APPLE-RADIUS=500;X-TITLE=315 Four Seasons Drive:geo:-92.6857682,38.1868815
END:VEVENT
BEGIN:VEVENT
DTSTART;TZID=UTC:20240907T200000
DTEND;TZID=UTC:20240907T230000
DTSTAMP:20260422T095046
CREATED:20240729T205707Z
LAST-MODIFIED:20240729T210904Z
UID:10009410-1725739200-1725750000@4seasonsresort.com
SUMMARY:Live Music | The Rooftop at The Lodge
DESCRIPTION:Join us daily 5pm – 11pm on The Rooftop at The Lodge.  Enjoy amazing handcrafted cocktails and delicious lite bites. \n Live music – Friday & Saturday. \n8pm – 11pm \n(Weather Permitting) \nTonight’s Featured Artist:
URL:https://4seasonsresort.com/activity/live-music-the-rooftop-at-the-lodge-3/2024-09-07/
LOCATION:Lodge of Four Seasons\, 315 Four Seasons Drive\, Lake Ozark\, MO\, 65049\, United States
ATTACH;FMTTYPE=image/png:https://4seasonsresort.com/wp-content/uploads/2024/07/Music-4.png
GEO:38.1868815;-92.6857682
X-APPLE-STRUCTURED-LOCATION;VALUE=URI;X-ADDRESS=Lodge of Four Seasons 315 Four Seasons Drive Lake Ozark MO 65049 United States;X-APPLE-RADIUS=500;X-TITLE=315 Four Seasons Drive:geo:-92.6857682,38.1868815
END:VEVENT
END:VCALENDAR