BEGIN:VCALENDAR
VERSION:2.0
PRODID:-//Lodge of Four Seasons - ECPv6.15.20//NONSGML v1.0//EN
CALSCALE:GREGORIAN
METHOD:PUBLISH
X-ORIGINAL-URL:https://4seasonsresort.com
X-WR-CALDESC:Events for Lodge of Four Seasons
REFRESH-INTERVAL;VALUE=DURATION:PT1H
X-Robots-Tag:noindex
X-PUBLISHED-TTL:PT1H
BEGIN:VTIMEZONE
TZID:UTC
BEGIN:STANDARD
TZOFFSETFROM:+0000
TZOFFSETTO:+0000
TZNAME:UTC
DTSTART:20230101T000000
END:STANDARD
END:VTIMEZONE
BEGIN:VEVENT
DTSTART;TZID=UTC:20240816T140000
DTEND;TZID=UTC:20240816T170000
DTSTAMP:20260422T093711
CREATED:20240424T210215Z
LAST-MODIFIED:20240424T210325Z
UID:10008546-1723816800-1723827600@4seasonsresort.com
SUMMARY:Live Music | Cloverleaf Pool
DESCRIPTION:
URL:https://4seasonsresort.com/activity/live-music-cloverleaf-pool/2024-08-16/
LOCATION:Lodge of Four Seasons\, 315 Four Seasons Drive\, Lake Ozark\, MO\, 65049\, United States
ATTACH;FMTTYPE=image/png:https://4seasonsresort.com/wp-content/uploads/2024/04/Music-2.png
GEO:38.1868815;-92.6857682
X-APPLE-STRUCTURED-LOCATION;VALUE=URI;X-ADDRESS=Lodge of Four Seasons 315 Four Seasons Drive Lake Ozark MO 65049 United States;X-APPLE-RADIUS=500;X-TITLE=315 Four Seasons Drive:geo:-92.6857682,38.1868815
END:VEVENT
BEGIN:VEVENT
DTSTART;TZID=UTC:20240816T183000
DTEND;TZID=UTC:20240816T213000
DTSTAMP:20260422T093711
CREATED:20240729T214333Z
LAST-MODIFIED:20240729T214334Z
UID:10007858-1723833000-1723843800@4seasonsresort.com
SUMMARY:Live Music | HK'S Restaurant
DESCRIPTION:Join us weekly\, Friday and Saturday\, 6:30 – 9:30 p.m.\, at HK’s Restaurant & Bar for live music from favorite local artists\, craft cocktails\, and delicious food from Chef Gary. \nHK’s opens daily at 3pm. \nTonight’s Featured Artist:  Sax Man Mike Byington \nRESERVE YOUR TABLE
URL:https://4seasonsresort.com/activity/live-music-hks-restaurant-8-24/
LOCATION:Lodge of Four Seasons\, 315 Four Seasons Drive\, Lake Ozark\, MO\, 65049\, United States
ATTACH;FMTTYPE=image/png:https://4seasonsresort.com/wp-content/uploads/2024/01/Live-music-.png
GEO:38.1868815;-92.6857682
X-APPLE-STRUCTURED-LOCATION;VALUE=URI;X-ADDRESS=Lodge of Four Seasons 315 Four Seasons Drive Lake Ozark MO 65049 United States;X-APPLE-RADIUS=500;X-TITLE=315 Four Seasons Drive:geo:-92.6857682,38.1868815
END:VEVENT
BEGIN:VEVENT
DTSTART;TZID=UTC:20240816T200000
DTEND;TZID=UTC:20240816T230000
DTSTAMP:20260422T093712
CREATED:20240729T214526Z
LAST-MODIFIED:20240729T214526Z
UID:10009403-1723838400-1723849200@4seasonsresort.com
SUMMARY:Live Music | The Rooftop at The Lodge
DESCRIPTION:Private Event this Evening
URL:https://4seasonsresort.com/activity/live-music-the-rooftop-at-the-lodge-3-6/
LOCATION:Lodge of Four Seasons\, 315 Four Seasons Drive\, Lake Ozark\, MO\, 65049\, United States
ATTACH;FMTTYPE=image/png:https://4seasonsresort.com/wp-content/uploads/2024/07/Music-4.png
GEO:38.1868815;-92.6857682
X-APPLE-STRUCTURED-LOCATION;VALUE=URI;X-ADDRESS=Lodge of Four Seasons 315 Four Seasons Drive Lake Ozark MO 65049 United States;X-APPLE-RADIUS=500;X-TITLE=315 Four Seasons Drive:geo:-92.6857682,38.1868815
END:VEVENT
END:VCALENDAR