BEGIN:VCALENDAR
VERSION:2.0
PRODID:-//Lodge of Four Seasons - ECPv6.15.20//NONSGML v1.0//EN
CALSCALE:GREGORIAN
METHOD:PUBLISH
X-ORIGINAL-URL:https://4seasonsresort.com
X-WR-CALDESC:Events for Lodge of Four Seasons
REFRESH-INTERVAL;VALUE=DURATION:PT1H
X-Robots-Tag:noindex
X-PUBLISHED-TTL:PT1H
BEGIN:VTIMEZONE
TZID:UTC
BEGIN:STANDARD
TZOFFSETFROM:+0000
TZOFFSETTO:+0000
TZNAME:UTC
DTSTART:20230101T000000
END:STANDARD
END:VTIMEZONE
BEGIN:VEVENT
DTSTART;TZID=UTC:20240119T090000
DTEND;TZID=UTC:20240119T100000
DTSTAMP:20260424T152748
CREATED:20231218T213527Z
LAST-MODIFIED:20250529T190814Z
UID:10007766-1705654800-1705658400@4seasonsresort.com
SUMMARY:Yoga | Spa Kyoto
DESCRIPTION:Join us at Spa Kyoto for Yoga!\nEvery Monday and Friday of January! \nCapture the moment and enjoy our relaxing fall spa specials! \nCall 573-365-8108 for more information and pricing! \nhttps://spashiki.com/ \n  \n 
URL:https://4seasonsresort.com/activity/yoga-spa-shiki-3/2024-01-19/
LOCATION:Lodge of Four Seasons\, 315 Four Seasons Drive\, Lake Ozark\, MO\, 65049\, United States
ATTACH;FMTTYPE=image/jpeg:https://4seasonsresort.com/wp-content/uploads/2023/11/3-1.jpg
GEO:38.1868815;-92.6857682
X-APPLE-STRUCTURED-LOCATION;VALUE=URI;X-ADDRESS=Lodge of Four Seasons 315 Four Seasons Drive Lake Ozark MO 65049 United States;X-APPLE-RADIUS=500;X-TITLE=315 Four Seasons Drive:geo:-92.6857682,38.1868815
END:VEVENT
BEGIN:VEVENT
DTSTART;TZID=UTC:20240119T183000
DTEND;TZID=UTC:20240119T213000
DTSTAMP:20260424T152748
CREATED:20231218T195409Z
LAST-MODIFIED:20231218T195411Z
UID:10007741-1705689000-1705699800@4seasonsresort.com
SUMMARY:Live Music | HK's Restaurant
DESCRIPTION:Join us at HK’s for Live Music!\nThis Friday\, we will be having music from\, Sax Man Mike Byington \nStarting at 6:30p – 9:30p \nRESERVE YOUR TABLE
URL:https://4seasonsresort.com/activity/live-music-hks-restaurant-4-2/
LOCATION:Lodge of Four Seasons\, 315 Four Seasons Drive\, Lake Ozark\, MO\, 65049\, United States
ATTACH;FMTTYPE=image/png:https://4seasonsresort.com/wp-content/uploads/2023/09/1.png
GEO:38.1868815;-92.6857682
X-APPLE-STRUCTURED-LOCATION;VALUE=URI;X-ADDRESS=Lodge of Four Seasons 315 Four Seasons Drive Lake Ozark MO 65049 United States;X-APPLE-RADIUS=500;X-TITLE=315 Four Seasons Drive:geo:-92.6857682,38.1868815
END:VEVENT
END:VCALENDAR